
BEGIN:VCALENDAR
VERSION:2.0
PRODID:-//MarkedsPartner AS//Umbraco CMS//NO
TIMEZONE-ID:Europe/Oslo
X-WR-TIMEZONE:Europe/Oslo


BEGIN:VEVENT
UID:44a0073cdb054a5696f55dc7e88c7bed
URL:https://umbraco.naeringsforeningen.no/moeter/arkiv/tv-sending-210209/
ORGANIZER;CN=Ola Normann:MAILTO:ola.normann@markedspartner.no
DTSTAMP:20210209T080000Z
DTSTART:20210209T080000Z
DTEND:20210209T082000Z
LAST-MODIFIED:20221031T120419Z
SUMMARY:Skriker etter folk med fagutdanning
DESCRIPTION:I 2018 var rundt 185.000 personer fra EU sysselsatt i Norge. Nær en tredjedel av dem pendlet fra sine hjemland. De jobber i yrker og bransjer nordmenn i for liten grad utdanner seg til. Trenger vi egentlig stadig flere mastergrader, når samfunnet skriker etter folk med fagutdanning? Det er tema for dagens sending. Catrine Utne Pettersen, seksjonssjef for fag- og yrkesopplæring i Rogaland fylkeskommune og Tonje Kolnes Røinås, kompetanserådgiver ved AOF Fagskolen, er våre gjester.
X-ALT-DESC:I 2018 var rundt 185.000 personer fra EU sysselsatt i Norge. N&#230;r en tredjedel av dem pendlet fra sine hjemland. De jobber i yrker og bransjer nordmenn i for liten grad utdanner seg til. Trenger vi egentlig stadig flere mastergrader, n&#229;r samfunnet skriker etter folk med fagutdanning? Det er tema for dagens sending. Catrine Utne Pettersen, seksjonssjef for fag- og yrkesoppl&#230;ring i Rogaland fylkeskommune og Tonje Kolnes R&#248;in&#229;s, kompetanser&#229;dgiver ved AOF Fagskolen, er v&#229;re gjester.
LOCATION:Facebook Live
END:VEVENT


END:VCALENDAR



