
BEGIN:VCALENDAR
VERSION:2.0
PRODID:-//MarkedsPartner AS//Umbraco CMS//NO
TIMEZONE-ID:Europe/Oslo
X-WR-TIMEZONE:Europe/Oslo


BEGIN:VEVENT
UID:4aa5e217373c4fed83afce461cc63fb8
URL:https://umbraco.naeringsforeningen.no/moeter/arkiv/tv-sending-210208/
ORGANIZER;CN=Ola Normann:MAILTO:ola.normann@markedspartner.no
DTSTAMP:20210208T080000Z
DTSTART:20210208T080000Z
DTEND:20210208T082000Z
LAST-MODIFIED:20221031T120413Z
SUMMARY:Tore Lærdal om 2020 og veien videre
DESCRIPTION:På tross av pandemien kunne Laerdal Medical presentere et fantastisk 2020-resultat i desember. Samtidig gjorde hovedeier Tore Lærdal det klart at han sluttet som konsernsjef for å gå over i en ny rolle. I dette direktesendte intervjuet med Næringsforeningens Ståle Frafjord forteller Lærdal om utfordringer og muligheter etter et år med unntakstilstand.
X-ALT-DESC:P&#229; tross av pandemien kunne Laerdal Medical presentere et fantastisk 2020-resultat i desember. Samtidig gjorde hovedeier Tore L&#230;rdal det klart at han sluttet som konsernsjef for &#229; g&#229; over i en ny rolle. I dette direktesendte intervjuet med N&#230;ringsforeningens St&#229;le Frafjord forteller L&#230;rdal om utfordringer og muligheter etter et &#229;r med unntakstilstand.
LOCATION:Facebook Live
END:VEVENT


END:VCALENDAR



