
BEGIN:VCALENDAR
VERSION:2.0
PRODID:-//MarkedsPartner AS//Umbraco CMS//NO
TIMEZONE-ID:Europe/Oslo
X-WR-TIMEZONE:Europe/Oslo


BEGIN:VEVENT
UID:0037655b2a914299b92815cd9d2756d7
URL:https://umbraco.naeringsforeningen.no/moeter/arkiv/tv-sending-210205/
ORGANIZER;CN=Ola Normann:MAILTO:ola.normann@markedspartner.no
DTSTAMP:20210205T080000Z
DTSTART:20210205T080000Z
DTEND:20210205T082000Z
LAST-MODIFIED:20221031T120402Z
SUMMARY:SVG-BGO med elfly i 2026?
DESCRIPTION:Om få år er de første el-flyene klare for kommersielle flyvninger. Et vestlandsinitiativ vil at verdens første utslippsfrie rute skal gå mellom Stavanger og Bergen. Hva må til, hva er status når det gjelder teknologi og hvilke ringvirkninger kan dette gi for de to vestlandsbyene? Det Tormod Andreassen og Harald Minge ikke vet om elfly er absolutt verdt å vite, men heldigvis har de med seg Arne Martin Gilberg fra Aircontact group i studio.
X-ALT-DESC:Om f&#229; &#229;r er de f&#248;rste el-flyene klare for kommersielle flyvninger. Et vestlandsinitiativ vil at verdens f&#248;rste utslippsfrie rute skal g&#229; mellom Stavanger og Bergen. Hva m&#229; til, hva er status n&#229;r det gjelder teknologi og hvilke ringvirkninger kan dette gi for de to vestlandsbyene? Det Tormod Andreassen og Harald Minge ikke vet om elfly er absolutt verdt &#229; vite, men heldigvis har de med seg Arne Martin Gilberg fra Aircontact group i studio.
LOCATION:Facebook Live
END:VEVENT


END:VCALENDAR



