
BEGIN:VCALENDAR
VERSION:2.0
PRODID:-//MarkedsPartner AS//Umbraco CMS//NO
TIMEZONE-ID:Europe/Oslo
X-WR-TIMEZONE:Europe/Oslo


BEGIN:VEVENT
UID:a39867e8ed5444b5b3e91070fdc562e8
URL:https://umbraco.naeringsforeningen.no/moeter/arkiv/tv-sending-210204/
ORGANIZER;CN=Ola Normann:MAILTO:ola.normann@markedspartner.no
DTSTAMP:20210204T080000Z
DTSTART:20210204T080000Z
DTEND:20210204T082000Z
LAST-MODIFIED:20221031T120331Z
SUMMARY:Eliteidrett under pandemien
DESCRIPTION:Viking har nettopp startet oppkjøringen til kommende sesong, som fortsatt er noen måneder unna. Stavanger Oilers er tilbake på is etter at store deler av troppen ble smittet og hele Fjordkraftligaen ble satt på vent. Hvordan styrer man en eliteklubb under pandemien og hvilke konsekvenser får det både sportslig og økonomisk? Vi får besøk av Eirik Bjørnø, daglig leder i Viking og Pål Haukali Higson, general manager i Oilers.
X-ALT-DESC:Viking har nettopp startet oppkj&#248;ringen til kommende sesong, som fortsatt er noen m&#229;neder unna. Stavanger Oilers er tilbake p&#229; is etter at store deler av troppen ble smittet og hele Fjordkraftligaen ble satt p&#229; vent. Hvordan styrer man en eliteklubb under pandemien og hvilke konsekvenser f&#229;r det b&#229;de sportslig og &#248;konomisk? Vi f&#229;r bes&#248;k av Eirik Bj&#248;rn&#248;, daglig leder i Viking og P&#229;l Haukali Higson, general manager i Oilers.
LOCATION:Facebook Live
END:VEVENT


END:VCALENDAR



