
BEGIN:VCALENDAR
VERSION:2.0
PRODID:-//MarkedsPartner AS//Umbraco CMS//NO
TIMEZONE-ID:Europe/Oslo
X-WR-TIMEZONE:Europe/Oslo


BEGIN:VEVENT
UID:77c6e565265943be81bcf19c3c654350
URL:https://umbraco.naeringsforeningen.no/moeter/arkiv/tv-sending-210203/
ORGANIZER;CN=Ola Normann:MAILTO:ola.normann@markedspartner.no
DTSTAMP:20210203T080000Z
DTSTART:20210203T080000Z
DTEND:20210203T082000Z
LAST-MODIFIED:20221031T120324Z
SUMMARY:Kalberg-debatt med Tvedt og Pollestad
DESCRIPTION:Etablering av datasenter eller kraftkrevende industri på Kalberg i Time kommune har vært en het debatt i lengre tid på Jæren. Vi tar debatten i dagens TV-sending. Med oss i studio har vi stortingsrepresentant og leder av Stortingets Næringskomite, Geir Pollestad (Sp) og daglig leder i Kalberg utvikling AS, Tom Tvedt.
X-ALT-DESC:Etablering av datasenter eller kraftkrevende industri p&#229; Kalberg i Time kommune har v&#230;rt en het debatt i lengre tid p&#229; J&#230;ren. Vi tar debatten i dagens TV-sending. Med oss i studio har vi stortingsrepresentant og leder av Stortingets N&#230;ringskomite, Geir Pollestad (Sp) og daglig leder i Kalberg utvikling AS, Tom Tvedt.
LOCATION:Facebook Live
END:VEVENT


END:VCALENDAR



