
BEGIN:VCALENDAR
VERSION:2.0
PRODID:-//MarkedsPartner AS//Umbraco CMS//NO
TIMEZONE-ID:Europe/Oslo
X-WR-TIMEZONE:Europe/Oslo


BEGIN:VEVENT
UID:8d7ffe8564fa4258bc21e05ede600f70
URL:https://umbraco.naeringsforeningen.no/moeter/arkiv/tv-sending-210202/
ORGANIZER;CN=Ola Normann:MAILTO:ola.normann@markedspartner.no
DTSTAMP:20210202T080000Z
DTSTART:20210202T080000Z
DTEND:20210202T082000Z
LAST-MODIFIED:20221031T120317Z
SUMMARY:Slik rammer innreiseforbudet
DESCRIPTION:Innreiseforbudet rammer industrien og næringslivet hard. Dersom forbudet blir langvarig, frykter mange for konkurransekraften. Med oss i studio har vi Jan Ertesvåg fra AkerSolutions i Egersund og hotelldirektør ved Grand Hotel Egersund, Geir Sølve Sleveland.
X-ALT-DESC:Innreiseforbudet rammer industrien og n&#230;ringslivet hard. Dersom forbudet blir langvarig, frykter mange for konkurransekraften. Med oss i studio har vi Jan Ertesv&#229;g fra AkerSolutions i Egersund og hotelldirekt&#248;r ved Grand Hotel Egersund, Geir S&#248;lve Sleveland.
LOCATION:Facebook Live
END:VEVENT


END:VCALENDAR



