
BEGIN:VCALENDAR
VERSION:2.0
PRODID:-//MarkedsPartner AS//Umbraco CMS//NO
TIMEZONE-ID:Europe/Oslo
X-WR-TIMEZONE:Europe/Oslo


BEGIN:VEVENT
UID:9df20e81c24a454fbbf5466d381642aa
URL:https://umbraco.naeringsforeningen.no/moeter/arkiv/tv-sending-210201/
ORGANIZER;CN=Ola Normann:MAILTO:ola.normann@markedspartner.no
DTSTAMP:20210201T080000Z
DTSTART:20210201T080000Z
DTEND:20210201T082000Z
LAST-MODIFIED:20221031T120314Z
SUMMARY:Derfor laget de Fomo
DESCRIPTION:Fomo på Forus er et helt unikt kontorfellesskap. Vi får besøk av initativtaker Magnus Meisal, som forklarer hvorfor de har laget noe du ikke finner maken til noe sted.
X-ALT-DESC:Fomo p&#229; Forus er et helt unikt kontorfellesskap. Vi f&#229;r bes&#248;k av initativtaker Magnus Meisal, som forklarer hvorfor de har laget noe du ikke finner maken til noe sted.
LOCATION:Facebook Live
END:VEVENT


END:VCALENDAR



