
BEGIN:VCALENDAR
VERSION:2.0
PRODID:-//MarkedsPartner AS//Umbraco CMS//NO
TIMEZONE-ID:Europe/Oslo
X-WR-TIMEZONE:Europe/Oslo


BEGIN:VEVENT
UID:832032a3242f443192d422279e709db6
URL:https://umbraco.naeringsforeningen.no/moeter/arkiv/tv-sending-210129/
ORGANIZER;CN=Ola Normann:MAILTO:ola.normann@markedspartner.no
DTSTAMP:20210129T080000Z
DTSTART:20210129T080000Z
DTEND:20210129T082000Z
LAST-MODIFIED:20221031T120307Z
SUMMARY:Bygger et nytt industrikonsern
DESCRIPTION:Midt under koronapandemien får Geir Austigard oppgaven med å skape et helt nytt industrikonsern i nysatsingen Moreld. Hvordan det går, får du vite mer om i denne sendingen. Det er tid for Nye muligheter, med Tormod Andreassen og Harald Minge – med Austigard som gjest.
X-ALT-DESC:Midt under koronapandemien f&#229;r Geir Austigard oppgaven med &#229; skape et helt nytt industrikonsern i nysatsingen Moreld. Hvordan det g&#229;r, f&#229;r du vite mer om i denne sendingen. Det er tid for Nye muligheter, med Tormod Andreassen og Harald Minge – med Austigard som gjest.
LOCATION:Facebook Live
END:VEVENT


END:VCALENDAR



