
BEGIN:VCALENDAR
VERSION:2.0
PRODID:-//MarkedsPartner AS//Umbraco CMS//NO
TIMEZONE-ID:Europe/Oslo
X-WR-TIMEZONE:Europe/Oslo


BEGIN:VEVENT
UID:abfb9a2d8928433bac4d9cf152a1037a
URL:https://umbraco.naeringsforeningen.no/moeter/arkiv/tv-sending-210128/
ORGANIZER;CN=Ola Normann:MAILTO:ola.normann@markedspartner.no
DTSTAMP:20210128T080000Z
DTSTART:20210128T080000Z
DTEND:20210128T082000Z
LAST-MODIFIED:20221031T120217Z
SUMMARY:Fortsatt vekst for handelsnæringen?
DESCRIPTION:Etter tidenes julehandel, omsetningsvekst i første halvår, kombinert med nesten 40 prosent færre besøkende i Stavanger sentrum i 2020, er det mye som er usikkert for handelsstanden i regionen i 2021. Fortsatt vekst eller vil koronatiltakene ramme hardt? Asgeir Sand fra Stavanger sentrum og Siri Øksnevad Olsen fra Jærhagen er gjester i studio.
X-ALT-DESC:Etter tidenes julehandel, omsetningsvekst i f&#248;rste halv&#229;r, kombinert med nesten 40 prosent f&#230;rre bes&#248;kende i Stavanger sentrum i 2020, er det mye som er usikkert for handelsstanden i regionen i 2021. Fortsatt vekst eller vil koronatiltakene ramme hardt? Asgeir Sand fra Stavanger sentrum og Siri &#216;ksnevad Olsen fra J&#230;rhagen er gjester i studio.
LOCATION:Facebook Live
END:VEVENT


END:VCALENDAR



