
BEGIN:VCALENDAR
VERSION:2.0
PRODID:-//MarkedsPartner AS//Umbraco CMS//NO
TIMEZONE-ID:Europe/Oslo
X-WR-TIMEZONE:Europe/Oslo


BEGIN:VEVENT
UID:2206a5aba9c849d8afd5ccc5e8714809
URL:https://umbraco.naeringsforeningen.no/moeter/arkiv/tv-sending-210127/
ORGANIZER;CN=Ola Normann:MAILTO:ola.normann@markedspartner.no
DTSTAMP:20210127T120000Z
DTSTART:20210127T120000Z
DTEND:20210127T122000Z
LAST-MODIFIED:20221031T120213Z
SUMMARY:Sjur Svaboe satser videre
DESCRIPTION:Han har viet store deler av livet sitt til å satse på framtidsrettede løsninger, spesielt innenfor miljø og helse. 77-åringen satser kun på egne prosjekter, og styrer virksomhetene store deler av året fra en holme i Hjelmeland kommune. Sjur Svaboe er vår gjest i dagens sending.
X-ALT-DESC:Han har viet store deler av livet sitt til &#229; satse p&#229; framtidsrettede l&#248;sninger, spesielt innenfor milj&#248; og helse. 77-&#229;ringen satser kun p&#229; egne prosjekter, og styrer virksomhetene store deler av &#229;ret fra en holme i Hjelmeland kommune. Sjur Svaboe er v&#229;r gjest i dagens sending.
LOCATION:Facebook Live
END:VEVENT


END:VCALENDAR



