
BEGIN:VCALENDAR
VERSION:2.0
PRODID:-//MarkedsPartner AS//Umbraco CMS//NO
TIMEZONE-ID:Europe/Oslo
X-WR-TIMEZONE:Europe/Oslo


BEGIN:VEVENT
UID:b1cc996a1e25452c870d6259708c6da2
URL:https://umbraco.naeringsforeningen.no/moeter/arkiv/tv-sending-210126/
ORGANIZER;CN=Ola Normann:MAILTO:ola.normann@markedspartner.no
DTSTAMP:20210126T080000Z
DTSTART:20210126T080000Z
DTEND:20210126T082000Z
LAST-MODIFIED:20221031T120202Z
SUMMARY:Stengte veier i sentrum?
DESCRIPTION:I løpet av den neste femårsperioden skal det foretas store endringer i trafikken i Stavanger sentrum med blant annet flere veier som stenges for biltrafikk. Hvordan vil dette gjøre seg gjeldende for sentrumsbutikkene? Vi får med oss daglig leder hos Rolfsen, Lise Bjørnsen og politikerne Ingebjørg Folgerø (H) og Håkon Fossmark (MDG) i studio.
X-ALT-DESC:I l&#248;pet av den neste fem&#229;rsperioden skal det foretas store endringer i trafikken i Stavanger sentrum med blant annet flere veier som stenges for biltrafikk. Hvordan vil dette gj&#248;re seg gjeldende for sentrumsbutikkene? Vi f&#229;r med oss daglig leder hos Rolfsen, Lise Bj&#248;rnsen og politikerne Ingebj&#248;rg Folger&#248; (H) og H&#229;kon Fossmark (MDG) i studio.
LOCATION:Facebook Live
END:VEVENT


END:VCALENDAR



