
BEGIN:VCALENDAR
VERSION:2.0
PRODID:-//MarkedsPartner AS//Umbraco CMS//NO
TIMEZONE-ID:Europe/Oslo
X-WR-TIMEZONE:Europe/Oslo


BEGIN:VEVENT
UID:5a1947af12354fe4ac8a3dc069f836e9
URL:https://umbraco.naeringsforeningen.no/moeter/arkiv/tv-sending-210125/
ORGANIZER;CN=Ola Normann:MAILTO:ola.normann@markedspartner.no
DTSTAMP:20210125T080000Z
DTSTART:20210125T080000Z
DTEND:20210125T082000Z
LAST-MODIFIED:20221031T120145Z
SUMMARY:Blir det alkoholservering igjen?
DESCRIPTION:Samtidig som smittetrykket letter i Stavanger-regionen og frykten og tiltakene mot det britiske mutant-viruset skjerpes på Østlandet, diskuteres det om restauranter og barer på ny skal få lov til å skjenke alkohol i storbykommunene. I dag tar vi praten med Karl Erik Pallesen, innehaver av Fisketorget og Leif Hovland, daglig leder for Herlige Stavanger, om hvilke tiltak næringen anbefaler.
X-ALT-DESC:Samtidig som smittetrykket letter i Stavanger-regionen og frykten og tiltakene mot det britiske mutant-viruset skjerpes p&#229; &#216;stlandet, diskuteres det om restauranter og barer p&#229; ny skal f&#229; lov til &#229; skjenke alkohol i storbykommunene. I dag tar vi praten med Karl Erik Pallesen, innehaver av Fisketorget og Leif Hovland, daglig leder for Herlige Stavanger, om hvilke tiltak n&#230;ringen anbefaler.
LOCATION:Facebook Live
END:VEVENT


END:VCALENDAR



