
BEGIN:VCALENDAR
VERSION:2.0
PRODID:-//MarkedsPartner AS//Umbraco CMS//NO
TIMEZONE-ID:Europe/Oslo
X-WR-TIMEZONE:Europe/Oslo


BEGIN:VEVENT
UID:e0d2dceaa496486eb8ec009f5326afcd
URL:https://umbraco.naeringsforeningen.no/moeter/arkiv/tv-sending-210122-1/
ORGANIZER;CN=Ola Normann:MAILTO:ola.normann@markedspartner.no
DTSTAMP:20220121T080000Z
DTSTART:20220121T080000Z
DTEND:20220121T082000Z
LAST-MODIFIED:20221031T122956Z
SUMMARY:TV: Go´morgen næringslivet
DESCRIPTION:Knut Nesse fra Akva Group er gjest i fredagens frokostsending fra Næringsforeningen. Knud med D avleverer en ny rapport fra hjemmekontoret, og vi tar som vanlig for oss de viktigste nyhetene på morgenkvisten.
X-ALT-DESC:Knut Nesse fra Akva Group er gjest i fredagens frokostsending fra N&#230;ringsforeningen. Knud med D avleverer en ny rapport fra hjemmekontoret, og vi tar som vanlig for oss de viktigste nyhetene p&#229; morgenkvisten.
LOCATION:Facebook Live/Linkedin Live
END:VEVENT


END:VCALENDAR



