
BEGIN:VCALENDAR
VERSION:2.0
PRODID:-//MarkedsPartner AS//Umbraco CMS//NO
TIMEZONE-ID:Europe/Oslo
X-WR-TIMEZONE:Europe/Oslo


BEGIN:VEVENT
UID:3f3f5a0c40c54d3ab8c89a660004d83a
URL:https://umbraco.naeringsforeningen.no/moeter/arkiv/tv-sending-210121/
ORGANIZER;CN=Ola Normann:MAILTO:ola.normann@markedspartner.no
DTSTAMP:20210121T080000Z
DTSTART:20210121T080000Z
DTEND:20210121T082000Z
LAST-MODIFIED:20221031T120123Z
SUMMARY:Ledelse under og etter pandemien
DESCRIPTION:Lederskolen er i gang med med sin 25. sesong. Denne våren er ledelse under og etter koronapandemien et gjennomgående tema. Dette er også samtaleemne i dagens TV-sendingen, der Business Development Manager Bernt Skandsen og nylig tiltrådt direktør Monica Hammervold ved BI Stavanger er våre gjester, sammen med Næringsforeningens Harald Minge.
X-ALT-DESC:Lederskolen er i gang med med sin 25. sesong. Denne v&#229;ren er ledelse under og etter koronapandemien et gjennomg&#229;ende tema. Dette er ogs&#229; samtaleemne i dagens TV-sendingen, der Business Development Manager Bernt Skandsen og nylig tiltr&#229;dt direkt&#248;r Monica Hammervold ved BI Stavanger er v&#229;re gjester, sammen med N&#230;ringsforeningens Harald Minge.
LOCATION:Facebook Live
END:VEVENT


END:VCALENDAR



