
BEGIN:VCALENDAR
VERSION:2.0
PRODID:-//MarkedsPartner AS//Umbraco CMS//NO
TIMEZONE-ID:Europe/Oslo
X-WR-TIMEZONE:Europe/Oslo


BEGIN:VEVENT
UID:d6d7ebf1605e4191af7ea0d6eb772df7
URL:https://umbraco.naeringsforeningen.no/moeter/arkiv/tv-sending-210120/
ORGANIZER;CN=Ola Normann:MAILTO:ola.normann@markedspartner.no
DTSTAMP:20210120T080000Z
DTSTART:20210120T080000Z
DTEND:20210120T082000Z
LAST-MODIFIED:20221031T120036Z
SUMMARY:Vi møter den nye sjefen i SR-Bank
DESCRIPTION:Benedicte Schilbred Fasmer overtok som konsernsjef i SpareBank 1 SR-Bank mer eller mindre samtidig med at Stavanger-regionen innførte nye lokale og strenge smitteverntiltak. Det har fått konsekvenser for den nye sjefen. Benedicte Schilbred Fasmer er vår gjest i dagens sending.
X-ALT-DESC:Benedicte Schilbred Fasmer overtok som konsernsjef i SpareBank 1 SR-Bank mer eller mindre samtidig med at Stavanger-regionen innf&#248;rte nye lokale og strenge smitteverntiltak. Det har f&#229;tt konsekvenser for den nye sjefen. Benedicte Schilbred Fasmer er v&#229;r gjest i dagens sending.
LOCATION:Facebook Live
END:VEVENT


END:VCALENDAR



