
BEGIN:VCALENDAR
VERSION:2.0
PRODID:-//MarkedsPartner AS//Umbraco CMS//NO
TIMEZONE-ID:Europe/Oslo
X-WR-TIMEZONE:Europe/Oslo


BEGIN:VEVENT
UID:d14ef6969dc04a588980cbeef7ff787b
URL:https://umbraco.naeringsforeningen.no/moeter/arkiv/tv-sending-210119/
ORGANIZER;CN=Ola Normann:MAILTO:ola.normann@markedspartner.no
DTSTAMP:20210119T080000Z
DTSTART:20210119T080000Z
DTEND:20210119T082000Z
LAST-MODIFIED:20221031T120023Z
SUMMARY:Hvordan blir aktiviteten i anleggsbransjen?
DESCRIPTION:Anleggsbransjen i regionen ble spådd en tøff vinter på slutten av fjoråret. Både Risa og Stangeland Maskin varslet permitteringer. Så økte smittetallene og kulda satte inn. Hvordan går egentlig nå? Vi får besøk av daglig leder Tommy Stangeland i Stangeland Maskin og Geir Endresen, nettverks- og merkevareansvarlig i Kruse Smith.
X-ALT-DESC:Anleggsbransjen i regionen ble sp&#229;dd en t&#248;ff vinter p&#229; slutten av fjor&#229;ret. B&#229;de Risa og Stangeland Maskin varslet permitteringer. S&#229; &#248;kte smittetallene og kulda satte inn. Hvordan g&#229;r egentlig n&#229;? Vi f&#229;r bes&#248;k av daglig leder Tommy Stangeland i Stangeland Maskin og Geir Endresen, nettverks- og merkevareansvarlig i Kruse Smith.
LOCATION:Facebook Live
END:VEVENT


END:VCALENDAR



