
BEGIN:VCALENDAR
VERSION:2.0
PRODID:-//MarkedsPartner AS//Umbraco CMS//NO
TIMEZONE-ID:Europe/Oslo
X-WR-TIMEZONE:Europe/Oslo


BEGIN:VEVENT
UID:6fa4d5cdda8a46eeaf5adefb6d6d27c7
URL:https://umbraco.naeringsforeningen.no/moeter/arkiv/tv-sending-210118/
ORGANIZER;CN=Ola Normann:MAILTO:ola.normann@markedspartner.no
DTSTAMP:20210118T080000Z
DTSTART:20210118T080000Z
DTEND:20210118T082000Z
LAST-MODIFIED:20221031T120008Z
SUMMARY:Mediebyen Stavanger
DESCRIPTION:NRK Rogaland, Aftenbladet, Mediafarm, Mediability og Screen Story ønsker å samlokalisere seg og lage en medieby i Stavanger. Vi har med oss sjefredaktør Lars Helle i Stavanger Aftenblad og distriktsredaktør Ragnar Christensen i NRK Rogaland for å snakke om planene.
X-ALT-DESC:NRK Rogaland, Aftenbladet, Mediafarm, Mediability og Screen Story &#248;nsker &#229; samlokalisere seg og lage en medieby i Stavanger. Vi har med oss sjefredakt&#248;r Lars Helle i Stavanger Aftenblad og distriktsredakt&#248;r Ragnar Christensen i NRK Rogaland for &#229; snakke om planene.
LOCATION:Facebook Live
END:VEVENT


END:VCALENDAR



