
BEGIN:VCALENDAR
VERSION:2.0
PRODID:-//MarkedsPartner AS//Umbraco CMS//NO
TIMEZONE-ID:Europe/Oslo
X-WR-TIMEZONE:Europe/Oslo


BEGIN:VEVENT
UID:e7aace05ab4542cca3be2cca0c308414
URL:https://umbraco.naeringsforeningen.no/moeter/arkiv/tv-sending-210115/
ORGANIZER;CN=Ola Normann:MAILTO:ola.normann@markedspartner.no
DTSTAMP:20210115T080000Z
DTSTART:20210115T080000Z
DTEND:20210115T082000Z
LAST-MODIFIED:20221031T115953Z
SUMMARY:Nye muligheter med Minge og Andreassen
DESCRIPTION:I 2021 jobber oljeselskapene med 25 små og store prosjekter som de håper å få vedtatt innen 2022. Aktiviteten er enorm, og prosjektene varierer fra 1 til 50-60 milliarder i størrelse. Ulf Rosenberg, leder for prosjekt Energihovedstaden, pleier å ha oversikten, men klarer han alle disse nye prosjektene utenat på fem minutter? Det skal vi teste i denne sendingen! I tillegg skal vi snakke om alt det som er på trappene av initiativer innen fornybar energi. Det er en drøy uke til bransjen skal samle på vår konferanse Energiåret og vi er i gang med oppvarmingen. I studio som vanlig på fredager: Tormod Andreassen og Harald Minge.
X-ALT-DESC:I 2021 jobber oljeselskapene med 25 sm&#229; og store prosjekter som de h&#229;per &#229; f&#229; vedtatt innen 2022. Aktiviteten er enorm, og prosjektene varierer fra 1 til 50-60 milliarder i st&#248;rrelse. Ulf Rosenberg, leder for prosjekt Energihovedstaden, pleier &#229; ha oversikten, men klarer han alle disse nye prosjektene utenat p&#229; fem minutter? Det skal vi teste i denne sendingen! I tillegg skal vi snakke om alt det som er p&#229; trappene av initiativer innen fornybar energi. Det er en dr&#248;y uke til bransjen skal samle p&#229; v&#229;r konferanse Energi&#229;ret og vi er i gang med oppvarmingen. I studio som vanlig p&#229; fredager: Tormod Andreassen og Harald Minge.
LOCATION:Facebook Live
END:VEVENT


END:VCALENDAR



