
BEGIN:VCALENDAR
VERSION:2.0
PRODID:-//MarkedsPartner AS//Umbraco CMS//NO
TIMEZONE-ID:Europe/Oslo
X-WR-TIMEZONE:Europe/Oslo


BEGIN:VEVENT
UID:364bbb40823c4161b266d8e76f0f0cd6
URL:https://umbraco.naeringsforeningen.no/moeter/arkiv/tv-sending-210114/
ORGANIZER;CN=Ola Normann:MAILTO:ola.normann@markedspartner.no
DTSTAMP:20210114T080000Z
DTSTART:20210114T080000Z
DTEND:20210114T082000Z
LAST-MODIFIED:20221031T115946Z
SUMMARY:Siste nytt om vaksinen og smittetiltakene
DESCRIPTION:Hvordan utvikler koronapandemien seg i Stavanger-regionen, hva skjer med de lokale tiltakene og ikke minst; når kan vi regne med at de fleste av oss som ønsker og trenger en vaksine er vaksinert? Det er tema for dagens sending. Smittevernoverlege i Sandnes kommune, Hans Petter Torvik, og beredskapssjef i Stavanger kommune, Torstein Nielsen, er våre gjester.
X-ALT-DESC:Hvordan utvikler koronapandemien seg i Stavanger-regionen, hva skjer med de lokale tiltakene og ikke minst; n&#229;r kan vi regne med at de fleste av oss som &#248;nsker og trenger en vaksine er vaksinert? Det er tema for dagens sending. Smittevernoverlege i Sandnes kommune, Hans Petter Torvik, og beredskapssjef i Stavanger kommune, Torstein Nielsen, er v&#229;re gjester.
LOCATION:Facebook Live
END:VEVENT


END:VCALENDAR



