
BEGIN:VCALENDAR
VERSION:2.0
PRODID:-//MarkedsPartner AS//Umbraco CMS//NO
TIMEZONE-ID:Europe/Oslo
X-WR-TIMEZONE:Europe/Oslo


BEGIN:VEVENT
UID:5eeec862b6574c18a37cd26369778b1f
URL:https://umbraco.naeringsforeningen.no/moeter/arkiv/tv-sending-210113/
ORGANIZER;CN=Ola Normann:MAILTO:ola.normann@markedspartner.no
DTSTAMP:20210113T120000Z
DTSTART:20210113T120000Z
DTEND:20210113T122000Z
LAST-MODIFIED:20221031T115928Z
SUMMARY:Koronastøtte til utelivet
DESCRIPTION:Før jul bevilget regjeringen 250 millioner kroner til kommuner med arbeidsledighet over gjennomsnittet. Det betød over 16 millioner kroner ekstra til Stavanger, 9 millioner til Sandnes. I Stavanger går alle millionene til utelivsbransjen, en bransje som er hardt rammet av smitteverntiltak. Næringssjef Anne Woie og daglig leder ved Harry Pepper, Knut Bergesen, er våre gjester.
X-ALT-DESC:F&#248;r jul bevilget regjeringen 250 millioner kroner til kommuner med arbeidsledighet over gjennomsnittet. Det bet&#248;d over 16 millioner kroner ekstra til Stavanger, 9 millioner til Sandnes. I Stavanger g&#229;r alle millionene til utelivsbransjen, en bransje som er hardt rammet av smitteverntiltak. N&#230;ringssjef Anne Woie og daglig leder ved Harry Pepper, Knut Bergesen, er v&#229;re gjester.
LOCATION:Facebook Live
END:VEVENT


END:VCALENDAR



