
BEGIN:VCALENDAR
VERSION:2.0
PRODID:-//MarkedsPartner AS//Umbraco CMS//NO
TIMEZONE-ID:Europe/Oslo
X-WR-TIMEZONE:Europe/Oslo


BEGIN:VEVENT
UID:866579e98d9d4bfda990221b450459f1
URL:https://umbraco.naeringsforeningen.no/moeter/arkiv/tv-sending-210112/
ORGANIZER;CN=Ola Normann:MAILTO:ola.normann@markedspartner.no
DTSTAMP:20210112T080000Z
DTSTART:20210112T080000Z
DTEND:20210112T082000Z
LAST-MODIFIED:20221031T115901Z
SUMMARY:Nå starter Rogfast-byggingen igjen
DESCRIPTION:Rett før jul ble Rogfast endelig vedtatt i Stortinget. Prosjektleder for Norges mest samfunnsøkonomisk lønnsomme veiprosjekt, Tor Geir Espedal, er med oss i studio og forteller siste nytt. Med oss er også ordfører i Kvitsøy, Stian Giil Bjørsvik, kommunen som kanskje får de aller største endringene når tunellen endelig åpner i 2031.
X-ALT-DESC:Rett f&#248;r jul ble Rogfast endelig vedtatt i Stortinget. Prosjektleder for Norges mest samfunns&#248;konomisk l&#248;nnsomme veiprosjekt, Tor Geir Espedal, er med oss i studio og forteller siste nytt. Med oss er ogs&#229; ordf&#248;rer i Kvits&#248;y, Stian Giil Bj&#248;rsvik, kommunen som kanskje f&#229;r de aller st&#248;rste endringene n&#229;r tunellen endelig &#229;pner i 2031.
LOCATION:Facebook Live
END:VEVENT


END:VCALENDAR



