
BEGIN:VCALENDAR
VERSION:2.0
PRODID:-//MarkedsPartner AS//Umbraco CMS//NO
TIMEZONE-ID:Europe/Oslo
X-WR-TIMEZONE:Europe/Oslo


BEGIN:VEVENT
UID:732a76f24dcb4a59bc2780ec3fb270d2
URL:https://umbraco.naeringsforeningen.no/moeter/arkiv/tv-sending-210111/
ORGANIZER;CN=Ola Normann:MAILTO:ola.normann@markedspartner.no
DTSTAMP:20210111T080000Z
DTSTART:20210111T080000Z
DTEND:20210111T082500Z
LAST-MODIFIED:20221031T115856Z
SUMMARY:Samarbeid skal synliggjøre mulighetene
DESCRIPTION:I dag lanseres Muligheter, en felles møteplass og informasjonskanal for å synliggjøre hva som finnes av jobber og utdanning. Vi ser på hva dette kan bety for arbeidssøkere, og har med oss Eirin Sund, regionleder for LO Rogaland, Tommy Bergesen, leder i TBE Bemanning og Elisabeth Søyland, hotellansatt som er permittert for tiden. Prosjektet er kommet i stand ved et initiativ fra Stavanger Kommune, og partnere i prosjektet er NAV Rogaland, Rogaland Fylkeskommune, LO Rogaland, Stavanger kommune og næringsforeningene på Haugalandet og i Stavanger-regionen.
X-ALT-DESC:I dag lanseres Muligheter, en felles m&#248;teplass og informasjonskanal for &#229; synliggj&#248;re hva som finnes av jobber og utdanning. Vi ser p&#229; hva dette kan bety for arbeidss&#248;kere, og har med oss Eirin Sund, regionleder for LO Rogaland, Tommy Bergesen, leder i TBE Bemanning og Elisabeth S&#248;yland, hotellansatt som er permittert for tiden. Prosjektet er kommet i stand ved et initiativ fra Stavanger Kommune, og partnere i prosjektet er NAV Rogaland, Rogaland Fylkeskommune, LO Rogaland, Stavanger kommune og n&#230;ringsforeningene p&#229; Haugalandet og i Stavanger-regionen.
LOCATION:Facebook Live
END:VEVENT


END:VCALENDAR



