
BEGIN:VCALENDAR
VERSION:2.0
PRODID:-//MarkedsPartner AS//Umbraco CMS//NO
TIMEZONE-ID:Europe/Oslo
X-WR-TIMEZONE:Europe/Oslo


BEGIN:VEVENT
UID:7eb07102413c40e6a312108d7aa95b99
URL:https://umbraco.naeringsforeningen.no/moeter/arkiv/tv-sending-210108/
ORGANIZER;CN=Ola Normann:MAILTO:ola.normann@markedspartner.no
DTSTAMP:20210108T080000Z
DTSTART:20210108T080000Z
DTEND:20210108T082500Z
LAST-MODIFIED:20221031T115848Z
SUMMARY:Nye muligheter i 2021
DESCRIPTION:Året vi helst vil glemme er forbi, vaksinen er på vei og vi har et næringsliv med spennende planer  for 2021. Hva er egentlig på gang? Det er fredag, og det betyr at Harald Minge og Tormod Andreassen som vanlig er på plass med gjester i studio for å snakke om de nye mulighetene. Gjestene denne gang er Ulf Rosenberg, Ketil Barkved og Eivind Helland.
X-ALT-DESC:&#197;ret vi helst vil glemme er forbi, vaksinen er p&#229; vei og vi har et n&#230;ringsliv med spennende planer  for 2021. Hva er egentlig p&#229; gang? Det er fredag, og det betyr at Harald Minge og Tormod Andreassen som vanlig er p&#229; plass med gjester i studio for &#229; snakke om de nye mulighetene. Gjestene denne gang er Ulf Rosenberg, Ketil Barkved og Eivind Helland.
LOCATION:Facebook Live
END:VEVENT


END:VCALENDAR



