
BEGIN:VCALENDAR
VERSION:2.0
PRODID:-//MarkedsPartner AS//Umbraco CMS//NO
TIMEZONE-ID:Europe/Oslo
X-WR-TIMEZONE:Europe/Oslo


BEGIN:VEVENT
UID:76cf942c474342c5a52dd39b9cfacd48
URL:https://umbraco.naeringsforeningen.no/moeter/arkiv/tv-sending-21-april/
ORGANIZER;CN=Ola Normann:MAILTO:ola.normann@markedspartner.no
DTSTAMP:20200421T070000Z
DTSTART:20200421T070000Z
DTEND:20200421T073000Z
LAST-MODIFIED:20221031T120643Z
SUMMARY:TV: Sending 21. april
DESCRIPTION:Tirsdag får vi besøk av Øivind Bjørnson, Finn E. Krogh og Dag Brekkan i studio.
X-ALT-DESC:Tirsdag f&#229;r vi bes&#248;k av &#216;ivind Bj&#248;rnson, Finn E. Krogh og Dag Brekkan i studio.
LOCATION:Facebook Live
END:VEVENT


END:VCALENDAR



