
BEGIN:VCALENDAR
VERSION:2.0
PRODID:-//MarkedsPartner AS//Umbraco CMS//NO
TIMEZONE-ID:Europe/Oslo
X-WR-TIMEZONE:Europe/Oslo


BEGIN:VEVENT
UID:24ececa965ff46cab2f164b6f04d7b78
URL:https://umbraco.naeringsforeningen.no/moeter/arkiv/tv-sending-201218/
ORGANIZER;CN=Ola Normann:MAILTO:ola.normann@markedspartner.no
DTSTAMP:20201218T080000Z
DTSTART:20201218T080000Z
DTEND:20201218T082500Z
LAST-MODIFIED:20221031T115828Z
SUMMARY:Et tilbakeblikk på annerledesåret
DESCRIPTION:Da parkeringshuset på Stavanger lufthavn sto i flammer, tenkte Anette Sigmundstad at det ikke kunne bli så mye verre. Så kom pandemien. Ostehusets Hanne Berentzen måtte gi tapt og stenge dørene for et av byens mest prestisjetunge restaurantprosjekter, mens NAV-sjef Merethe Prytz-Haftorsen håndterte en enorm pågang av arbeidsledige og permitterte. Etter 89 TV-sendinger og 350 gjester i studio runder vi av for i år med et tilbakeblikk på annerledesåret. I studio har vi også med oss psykiater og professor Jan Olav Johannesen, mens sangeren Olav Larsen setter endelig strek med litt førjulsstemning.
X-ALT-DESC:Da parkeringshuset p&#229; Stavanger lufthavn sto i flammer, tenkte Anette Sigmundstad at det ikke kunne bli s&#229; mye verre. S&#229; kom pandemien. Ostehusets Hanne Berentzen m&#229;tte gi tapt og stenge d&#248;rene for et av byens mest prestisjetunge restaurantprosjekter, mens NAV-sjef Merethe Prytz-Haftorsen h&#229;ndterte en enorm p&#229;gang av arbeidsledige og permitterte. Etter 89 TV-sendinger og 350 gjester i studio runder vi av for i &#229;r med et tilbakeblikk p&#229; annerledes&#229;ret. I studio har vi ogs&#229; med oss psykiater og professor Jan Olav Johannesen, mens sangeren Olav Larsen setter endelig strek med litt f&#248;rjulsstemning.
LOCATION:Facebook Live
END:VEVENT


END:VCALENDAR



