
BEGIN:VCALENDAR
VERSION:2.0
PRODID:-//MarkedsPartner AS//Umbraco CMS//NO
TIMEZONE-ID:Europe/Oslo
X-WR-TIMEZONE:Europe/Oslo


BEGIN:VEVENT
UID:d7cb8ef99db443afb90087015a420e2f
URL:https://umbraco.naeringsforeningen.no/moeter/arkiv/tv-sending-201217-1/
ORGANIZER;CN=Ola Normann:MAILTO:ola.normann@markedspartner.no
DTSTAMP:20201217T080000Z
DTSTART:20201217T080000Z
DTEND:20201217T082000Z
LAST-MODIFIED:20221031T115813Z
SUMMARY:Møt de tre nye lokale børsselskapene
DESCRIPTION:I løpet av kort tid har Stavanger-regionen fått hele tre nye børsnoterte selskaper. Tirsdag gikk droneoperatøren Nordic Unmanned på børs, mens Kraft Bank kunne ringe med bjellen i forrige uke. Zaptec, som satser på framtidsrettet elbillading, er det tredje lokale selskapet. Torsdag morgen møter du alle de tre vekstselskapene i vår tv-sending. I studio kommer Knut Roar Wiig, Svein Ivar Førland og Anders Thingbø.
X-ALT-DESC:I l&#248;pet av kort tid har Stavanger-regionen f&#229;tt hele tre nye b&#248;rsnoterte selskaper. Tirsdag gikk droneoperat&#248;ren Nordic Unmanned p&#229; b&#248;rs, mens Kraft Bank kunne ringe med bjellen i forrige uke. Zaptec, som satser p&#229; framtidsrettet elbillading, er det tredje lokale selskapet. Torsdag morgen m&#248;ter du alle de tre vekstselskapene i v&#229;r tv-sending. I studio kommer Knut Roar Wiig, Svein Ivar F&#248;rland og Anders Thingb&#248;.
LOCATION:Facebook Live
END:VEVENT


END:VCALENDAR



