
BEGIN:VCALENDAR
VERSION:2.0
PRODID:-//MarkedsPartner AS//Umbraco CMS//NO
TIMEZONE-ID:Europe/Oslo
X-WR-TIMEZONE:Europe/Oslo


BEGIN:VEVENT
UID:760c4955176749dea27650c771cb2e74
URL:https://umbraco.naeringsforeningen.no/moeter/arkiv/tv-sending-201216/
ORGANIZER;CN=Ola Normann:MAILTO:ola.normann@markedspartner.no
DTSTAMP:20201216T080000Z
DTSTART:20201216T080000Z
DTEND:20201216T085500Z
LAST-MODIFIED:20221031T115759Z
SUMMARY:Årets Bedrift
DESCRIPTION:Opplev de fem selskapene som kan bli årets bedrift:
 
Og de nominerte er …
 
Fem fantastiske virksomheter er nominert til Årets bedrift 2020. Det er laget en tv-reportasje om alle sammen og i denne tv-sendingen blir de presentert. I studio kommer Ole Henry Slette fra Handelsbanken som er Næringsforeningens partner til Årets bedrift-prisen. Han skal kommentere hvordan juryen har begrunnet nominasjonene. Selve kåringen og prisutdelingen er utsatt til 2021. Prisen blir delt ut for 34. gang.
X-ALT-DESC:Opplev de fem selskapene som kan bli &#229;rets bedrift:
 
Og de nominerte er …
 
Fem fantastiske virksomheter er nominert til &#197;rets bedrift 2020. Det er laget en tv-reportasje om alle sammen og i denne tv-sendingen blir de presentert. I studio kommer Ole Henry Slette fra Handelsbanken som er N&#230;ringsforeningens partner til &#197;rets bedrift-prisen. Han skal kommentere hvordan juryen har begrunnet nominasjonene. Selve k&#229;ringen og prisutdelingen er utsatt til 2021. Prisen blir delt ut for 34. gang.
LOCATION:Facebook Live
END:VEVENT


END:VCALENDAR



