
BEGIN:VCALENDAR
VERSION:2.0
PRODID:-//MarkedsPartner AS//Umbraco CMS//NO
TIMEZONE-ID:Europe/Oslo
X-WR-TIMEZONE:Europe/Oslo


BEGIN:VEVENT
UID:b4319810a58f421abb75d8143defa75e
URL:https://umbraco.naeringsforeningen.no/moeter/arkiv/tv-sending-201215/
ORGANIZER;CN=Ola Normann:MAILTO:ola.normann@markedspartner.no
DTSTAMP:20201215T080000Z
DTSTART:20201215T080000Z
DTEND:20201215T082000Z
LAST-MODIFIED:20221031T115718Z
SUMMARY:Vi kårer vinneren av pepperkakebyen
DESCRIPTION:Vi kårer vinneren av bedriftsklassen i årets pepperkakeby. Sjefredakør Lars Helle i Stavanger Aftenblad står for overrekkelsen. I tillegg møter vi domprost Stefan Emmerhoff, som forbereder en julehøytid uten åpen Domkirke og med strenge smittevernregler.
X-ALT-DESC:Vi k&#229;rer vinneren av bedriftsklassen i &#229;rets pepperkakeby. Sjefredak&#248;r Lars Helle i Stavanger Aftenblad st&#229;r for overrekkelsen. I tillegg m&#248;ter vi domprost Stefan Emmerhoff, som forbereder en juleh&#248;ytid uten &#229;pen Domkirke og med strenge smittevernregler.
LOCATION:Facebook Live
END:VEVENT


END:VCALENDAR



