
BEGIN:VCALENDAR
VERSION:2.0
PRODID:-//MarkedsPartner AS//Umbraco CMS//NO
TIMEZONE-ID:Europe/Oslo
X-WR-TIMEZONE:Europe/Oslo


BEGIN:VEVENT
UID:79c3bbf7b01d4d2eadeeb5b9f877343d
URL:https://umbraco.naeringsforeningen.no/moeter/arkiv/tv-sending-201214/
ORGANIZER;CN=Ola Normann:MAILTO:ola.normann@markedspartner.no
DTSTAMP:20201214T080000Z
DTSTART:20201214T080000Z
DTEND:20201214T082000Z
LAST-MODIFIED:20221031T115715Z
SUMMARY:Sier Time ja til Kalberg?
DESCRIPTION:Tirsdag skal kommunestyret i Time avgjøre om det blir et datasenter på Kalberg. Flere aktører jobber for et slikt senter, men motstanden er også stor. Andreas Vollsund, ordfører i Time kommune, Ståle Kyllingstad fra IKM og Tor Kristian Gyland fra Green Mountain, er gjester i sendingen.
X-ALT-DESC:Tirsdag skal kommunestyret i Time avgj&#248;re om det blir et datasenter p&#229; Kalberg. Flere akt&#248;rer jobber for et slikt senter, men motstanden er ogs&#229; stor. Andreas Vollsund, ordf&#248;rer i Time kommune, St&#229;le Kyllingstad fra IKM og Tor Kristian Gyland fra Green Mountain, er gjester i sendingen.
LOCATION:Facebook Live
END:VEVENT


END:VCALENDAR



