
BEGIN:VCALENDAR
VERSION:2.0
PRODID:-//MarkedsPartner AS//Umbraco CMS//NO
TIMEZONE-ID:Europe/Oslo
X-WR-TIMEZONE:Europe/Oslo


BEGIN:VEVENT
UID:23cd097b0ad54d2f88665c9e8edeccba
URL:https://umbraco.naeringsforeningen.no/moeter/arkiv/tv-sending-201211/
ORGANIZER;CN=Ola Normann:MAILTO:ola.normann@markedspartner.no
DTSTAMP:20201211T080000Z
DTSTART:20201211T080000Z
DTEND:20201211T082000Z
LAST-MODIFIED:20221031T115712Z
SUMMARY:Batterigiganter ser på Rogaland
DESCRIPTION:Det nærmer seg fredag, og det betyr at Tormod Andreassen og Harald Minge skal diskutere nye muligheter. Framover skal vi skape tusenvis av nye arbeidsplasser som skal opprettholde eksportinntektene og kompensere for lavere oljeinntekter. Batteriproduksjon er en av næringene hvor vi har spesielt gode forutsetninger. Mange fikk med seg nyheten om intensjonsavtalen mellom Equinor, Norsk Hydro og Panasonic om å bygge batterfabrikk i Norden. Og her hjemme har vi Beyonder, som satser på batterifabrikk i Rogaland, og som er i gang med et pilotprosjekt på Forus. I studio kommer også Beyonders Kristin Skofteland.
X-ALT-DESC:Det n&#230;rmer seg fredag, og det betyr at Tormod Andreassen og Harald Minge skal diskutere nye muligheter. Framover skal vi skape tusenvis av nye arbeidsplasser som skal opprettholde eksportinntektene og kompensere for lavere oljeinntekter. Batteriproduksjon er en av n&#230;ringene hvor vi har spesielt gode forutsetninger. Mange fikk med seg nyheten om intensjonsavtalen mellom Equinor, Norsk Hydro og Panasonic om &#229; bygge batterfabrikk i Norden. Og her hjemme har vi Beyonder, som satser p&#229; batterifabrikk i Rogaland, og som er i gang med et pilotprosjekt p&#229; Forus. I studio kommer ogs&#229; Beyonders Kristin Skofteland.
LOCATION:Facebook Live
END:VEVENT


END:VCALENDAR



