
BEGIN:VCALENDAR
VERSION:2.0
PRODID:-//MarkedsPartner AS//Umbraco CMS//NO
TIMEZONE-ID:Europe/Oslo
X-WR-TIMEZONE:Europe/Oslo


BEGIN:VEVENT
UID:0c1dfb6806bf46ecbb87908920e4c570
URL:https://umbraco.naeringsforeningen.no/moeter/arkiv/tv-sending-201210/
ORGANIZER;CN=Ola Normann:MAILTO:ola.normann@markedspartner.no
DTSTAMP:20201210T080000Z
DTSTART:20201210T080000Z
DTEND:20201210T082000Z
LAST-MODIFIED:20221031T115709Z
SUMMARY:Mot en lysere koronavår?
DESCRIPTION:Mot en lysere vår? Vi snakker med ulike arrangører i regionen som står bak konserter, eventer, turer og opplevelser – og spør hvilke forventninger de har og hvordan de planlegger for det nye året med vaksine på vei og utsikter til en mer normal tilstand. Vi får besøk av Per Harald Nilsson, administrerende direktør ved Stavanger konserthus, daglig leder i Guidecompaniet, Wenche Hansen, og leder for Kulturkompaniet, Ole Petter Søllesvik.
X-ALT-DESC:Mot en lysere v&#229;r? Vi snakker med ulike arrang&#248;rer i regionen som st&#229;r bak konserter, eventer, turer og opplevelser – og sp&#248;r hvilke forventninger de har og hvordan de planlegger for det nye &#229;ret med vaksine p&#229; vei og utsikter til en mer normal tilstand. Vi f&#229;r bes&#248;k av Per Harald Nilsson, administrerende direkt&#248;r ved Stavanger konserthus, daglig leder i Guidecompaniet, Wenche Hansen, og leder for Kulturkompaniet, Ole Petter S&#248;llesvik.
LOCATION:Facebook Live
END:VEVENT


END:VCALENDAR



