
BEGIN:VCALENDAR
VERSION:2.0
PRODID:-//MarkedsPartner AS//Umbraco CMS//NO
TIMEZONE-ID:Europe/Oslo
X-WR-TIMEZONE:Europe/Oslo


BEGIN:VEVENT
UID:8409d2a50b954b6186205da49bcf6fdb
URL:https://umbraco.naeringsforeningen.no/moeter/arkiv/tv-sending-201209/
ORGANIZER;CN=Ola Normann:MAILTO:ola.normann@markedspartner.no
DTSTAMP:20201209T080000Z
DTSTART:20201209T080000Z
DTEND:20201209T082000Z
LAST-MODIFIED:20221031T115706Z
SUMMARY:Kappløpet om nytt badeland
DESCRIPTION:Både Sandnes og Stavanger har planer om badeland eller svømmeanlegg. Hvem vinner kappløpet? Flere initiativer har blitt presentert de siste månedene. Sist ute var NHP Eiendom som lanserte muligheten for en kombinasjon av svømme- og ishockeyanlegg på Lura, men også et folkebad ved Norestraen i Sandnes har blitt foreslått. Politisk ledelse i Stavanger har uttalt at det ønsker et badeland i sentrum. I studio kommer Pål Morten Borgli og Dag Mossige, sammen med Knut Andreas Sand fra NHP Eiendom.
X-ALT-DESC:B&#229;de Sandnes og Stavanger har planer om badeland eller sv&#248;mmeanlegg. Hvem vinner kappl&#248;pet? Flere initiativer har blitt presentert de siste m&#229;nedene. Sist ute var NHP Eiendom som lanserte muligheten for en kombinasjon av sv&#248;mme- og ishockeyanlegg p&#229; Lura, men ogs&#229; et folkebad ved Norestraen i Sandnes har blitt foresl&#229;tt. Politisk ledelse i Stavanger har uttalt at det &#248;nsker et badeland i sentrum. I studio kommer P&#229;l Morten Borgli og Dag Mossige, sammen med Knut Andreas Sand fra NHP Eiendom.
LOCATION:Facebook Live
END:VEVENT


END:VCALENDAR



