
BEGIN:VCALENDAR
VERSION:2.0
PRODID:-//MarkedsPartner AS//Umbraco CMS//NO
TIMEZONE-ID:Europe/Oslo
X-WR-TIMEZONE:Europe/Oslo


BEGIN:VEVENT
UID:81602a6cd0be4c7b998923b55403ce24
URL:https://umbraco.naeringsforeningen.no/moeter/arkiv/tv-sending-201208/
ORGANIZER;CN=Ola Normann:MAILTO:ola.normann@markedspartner.no
DTSTAMP:20201208T080000Z
DTSTART:20201208T080000Z
DTEND:20201208T082000Z
LAST-MODIFIED:20221031T115652Z
SUMMARY:Betydningen av 50 mill til medisinstudium ved UiS
DESCRIPTION:I løpet av få uker har Universitetet i Stavanger totalt mottatt 50 millioner kroner i gaver til etablering av medisinstudium i Stavanger. Hvilken betydning det kan få,  er tema for dagens sending. Yuhong Jin Hermansen, Klaus Mohn og Atle Simonsen er våre gjester.
X-ALT-DESC:I l&#248;pet av f&#229; uker har Universitetet i Stavanger totalt mottatt 50 millioner kroner i gaver til etablering av medisinstudium i Stavanger. Hvilken betydning det kan f&#229;,  er tema for dagens sending. Yuhong Jin Hermansen, Klaus Mohn og Atle Simonsen er v&#229;re gjester.
LOCATION:Facebook Live
END:VEVENT


END:VCALENDAR



