
BEGIN:VCALENDAR
VERSION:2.0
PRODID:-//MarkedsPartner AS//Umbraco CMS//NO
TIMEZONE-ID:Europe/Oslo
X-WR-TIMEZONE:Europe/Oslo


BEGIN:VEVENT
UID:bca07e50bd3a456b8982de47846ee18e
URL:https://umbraco.naeringsforeningen.no/moeter/arkiv/tv-sending-201204/
ORGANIZER;CN=Ola Normann:MAILTO:ola.normann@markedspartner.no
DTSTAMP:20201204T080000Z
DTSTART:20201204T080000Z
DTEND:20201204T082000Z
LAST-MODIFIED:20221031T115636Z
SUMMARY:Vind i seilene for havvind 
DESCRIPTION:Flytende havvind kan bety titusenvis av nye grønne arbeidsplasser. Kostnadene går nedover i takt med teknologiutviklingen. Enorme industriprosjekter som Hywind Tampen og Utsira Nord er på trappene. Hva betyr dette for Stavanger-Regionen? Det er fredag og Harald Minge og Tormod Andreassen diskuterer som vanlig næringsutvikling. Med seg i studio har de Ole-Erik Endrerud fra Shoreline som satser tungt på havvind, og som har en programplattform som brukes av store internasjonale aktører i vindenergibransjen.
X-ALT-DESC:Flytende havvind kan bety titusenvis av nye gr&#248;nne arbeidsplasser. Kostnadene g&#229;r nedover i takt med teknologiutviklingen. Enorme industriprosjekter som Hywind Tampen og Utsira Nord er p&#229; trappene. Hva betyr dette for Stavanger-Regionen? Det er fredag og Harald Minge og Tormod Andreassen diskuterer som vanlig n&#230;ringsutvikling. Med seg i studio har de Ole-Erik Endrerud fra Shoreline som satser tungt p&#229; havvind, og som har en programplattform som brukes av store internasjonale akt&#248;rer i vindenergibransjen.
LOCATION:Facebook Live
END:VEVENT


END:VCALENDAR



