
BEGIN:VCALENDAR
VERSION:2.0
PRODID:-//MarkedsPartner AS//Umbraco CMS//NO
TIMEZONE-ID:Europe/Oslo
X-WR-TIMEZONE:Europe/Oslo


BEGIN:VEVENT
UID:f4fdd8f8ce56440796a6487c8974e14b
URL:https://umbraco.naeringsforeningen.no/moeter/arkiv/tv-sending-201203/
ORGANIZER;CN=Ola Normann:MAILTO:ola.normann@markedspartner.no
DTSTAMP:20201203T080000Z
DTSTART:20201203T080000Z
DTEND:20201203T082000Z
LAST-MODIFIED:20221031T115602Z
SUMMARY:Black week og julehandelen
DESCRIPTION:Hvor mye handlet folk under black week, og har handlemønsteret endret seg? Vil disse tallene gi oss en indikasjon på hvordan julehandelen blir? I morgendagens sending presenterer DNB en helt fersk rapport, basert på kundenes kortbruk. I studio kommer Terje Fanebust og Ine Oftedal fra banken, mens senterleder Kristine Bergseteren i MagasinBlaa gir oss en stemningsrapport fra «fronten».
X-ALT-DESC:Hvor mye handlet folk under black week, og har handlem&#248;nsteret endret seg? Vil disse tallene gi oss en indikasjon p&#229; hvordan julehandelen blir? I morgendagens sending presenterer DNB en helt fersk rapport, basert p&#229; kundenes kortbruk. I studio kommer Terje Fanebust og Ine Oftedal fra banken, mens senterleder Kristine Bergseteren i MagasinBlaa gir oss en stemningsrapport fra &#171;fronten&#187;.
LOCATION:Facebook Live
END:VEVENT


END:VCALENDAR



