
BEGIN:VCALENDAR
VERSION:2.0
PRODID:-//MarkedsPartner AS//Umbraco CMS//NO
TIMEZONE-ID:Europe/Oslo
X-WR-TIMEZONE:Europe/Oslo


BEGIN:VEVENT
UID:bd1f64004abb4c54873756b21ca2e6fa
URL:https://umbraco.naeringsforeningen.no/moeter/arkiv/tv-sending-201202/
ORGANIZER;CN=Ola Normann:MAILTO:ola.normann@markedspartner.no
DTSTAMP:20201202T080000Z
DTSTART:20201202T080000Z
DTEND:20201202T082000Z
LAST-MODIFIED:20221031T115544Z
SUMMARY:Kutt i Bymiljøpakken
DESCRIPTION:Forslagene til kutt i Bymiljøpakken har skapt sterke reaksjoner. Hva skjer og hvilke konsekvenser får dette? Det er tema for denne sendingen. Vi får besøk av Sandnes-ordfører Stanley Wirak, Sola-ordfører Tom Henning Sletthei og Cathrine Ogne fra Logi Trans.
X-ALT-DESC:Forslagene til kutt i Bymilj&#248;pakken har skapt sterke reaksjoner. Hva skjer og hvilke konsekvenser f&#229;r dette? Det er tema for denne sendingen. Vi f&#229;r bes&#248;k av Sandnes-ordf&#248;rer Stanley Wirak, Sola-ordf&#248;rer Tom Henning Sletthei og Cathrine Ogne fra Logi Trans.
LOCATION:Facebook Live
END:VEVENT


END:VCALENDAR



