
BEGIN:VCALENDAR
VERSION:2.0
PRODID:-//MarkedsPartner AS//Umbraco CMS//NO
TIMEZONE-ID:Europe/Oslo
X-WR-TIMEZONE:Europe/Oslo


BEGIN:VEVENT
UID:5d4a449765474fbbb4dc89b7a73480c3
URL:https://umbraco.naeringsforeningen.no/moeter/arkiv/tv-sending-201201/
ORGANIZER;CN=Ola Normann:MAILTO:ola.normann@markedspartner.no
DTSTAMP:20201201T080000Z
DTSTART:20201201T080000Z
DTEND:20201201T082000Z
LAST-MODIFIED:20221031T115523Z
SUMMARY:Reiselivet etter korona
DESCRIPTION:Fra tomme hoteller og destinasjoner til det som kan bli tidenes år. Reiselivssjef Elisabeth Saupstad i Region Stavanger og hotelleier Cato Østerhus ved Utstein Kloster Hotell kommer for å snakke om hvordan vi skal bygge fremtidens reiseliv. Hvordan lage pakkeløsninger og utnytte regionens unike destinasjoner?
X-ALT-DESC:Fra tomme hoteller og destinasjoner til det som kan bli tidenes &#229;r. Reiselivssjef Elisabeth Saupstad i Region Stavanger og hotelleier Cato &#216;sterhus ved Utstein Kloster Hotell kommer for &#229; snakke om hvordan vi skal bygge fremtidens reiseliv. Hvordan lage pakkel&#248;sninger og utnytte regionens unike destinasjoner?
LOCATION:Facebook Live
END:VEVENT


END:VCALENDAR



