
BEGIN:VCALENDAR
VERSION:2.0
PRODID:-//MarkedsPartner AS//Umbraco CMS//NO
TIMEZONE-ID:Europe/Oslo
X-WR-TIMEZONE:Europe/Oslo


BEGIN:VEVENT
UID:beed3d6116554deeac9a60d1767196e4
URL:https://umbraco.naeringsforeningen.no/moeter/arkiv/tv-sending-201130/
ORGANIZER;CN=Ola Normann:MAILTO:ola.normann@markedspartner.no
DTSTAMP:20201130T080000Z
DTSTART:20201130T080000Z
DTEND:20201130T082000Z
LAST-MODIFIED:20221031T115518Z
SUMMARY:Aksjemarkedene og muligheter på børs
DESCRIPTION:Hvordan vil aksjemarkedene og verdensøkonomien utvikle seg framover? Hvilke trender vil dominere markedene nå, på kort og lengre sikt? Og hvordan ser Nordic Unmanned på mulighetene på børs? Vi får besøk av samfunnsøkonom Torfinn Harding fra Universitetet i Stavanger , Anne Line Kristiansen fra SKAGEN Fondene og Knut Roar Wiig fra Nordic Unmanned.
X-ALT-DESC:Hvordan vil aksjemarkedene og verdens&#248;konomien utvikle seg framover? Hvilke trender vil dominere markedene n&#229;, p&#229; kort og lengre sikt? Og hvordan ser Nordic Unmanned p&#229; mulighetene p&#229; b&#248;rs? Vi f&#229;r bes&#248;k av samfunns&#248;konom Torfinn Harding fra Universitetet i Stavanger , Anne Line Kristiansen fra SKAGEN Fondene og Knut Roar Wiig fra Nordic Unmanned.
LOCATION:Facebook Live
END:VEVENT


END:VCALENDAR



