
BEGIN:VCALENDAR
VERSION:2.0
PRODID:-//MarkedsPartner AS//Umbraco CMS//NO
TIMEZONE-ID:Europe/Oslo
X-WR-TIMEZONE:Europe/Oslo


BEGIN:VEVENT
UID:2851650f1d1e45a9bdb4ae7d692a2248
URL:https://umbraco.naeringsforeningen.no/moeter/arkiv/tv-sending-201127/
ORGANIZER;CN=Ola Normann:MAILTO:ola.normann@markedspartner.no
DTSTAMP:20201127T080000Z
DTSTART:20201127T080000Z
DTEND:20201127T082000Z
LAST-MODIFIED:20221031T115512Z
SUMMARY:Sikter mot tusenvis av nye arbeidsplasser
DESCRIPTION:Havbruksnæringen i Rogaland har enorme vekstambisjoner. Ny teknologi er under utvikling for å få til en bærekraftig vekst, enten det gjelder landbaserte anlegg, havbruk til havs, fôr eller lukkede anlegg i fjordene. Som vanlig stiller vår region særdeles sterkt – fordi vi har hele verdikjeden. Det vi trenger nå for å utnytte potensialet og skape tusenvis av nye arbeidsplasser er tillatelser. Et tosifret antall gryteklare prosjekter står klar. Er vi rigget for denne muligheten? Harald Minge og Tormod Andreassen diskuterer nye muligheter, og har i dag besøk av Eivind Helland fra Blue Planet.
X-ALT-DESC:Havbruksn&#230;ringen i Rogaland har enorme vekstambisjoner. Ny teknologi er under utvikling for &#229; f&#229; til en b&#230;rekraftig vekst, enten det gjelder landbaserte anlegg, havbruk til havs, f&#244;r eller lukkede anlegg i fjordene. Som vanlig stiller v&#229;r region s&#230;rdeles sterkt – fordi vi har hele verdikjeden. Det vi trenger n&#229; for &#229; utnytte potensialet og skape tusenvis av nye arbeidsplasser er tillatelser. Et tosifret antall gryteklare prosjekter st&#229;r klar. Er vi rigget for denne muligheten? Harald Minge og Tormod Andreassen diskuterer nye muligheter, og har i dag bes&#248;k av Eivind Helland fra Blue Planet.
LOCATION:Facebook Live
END:VEVENT


END:VCALENDAR



