
BEGIN:VCALENDAR
VERSION:2.0
PRODID:-//MarkedsPartner AS//Umbraco CMS//NO
TIMEZONE-ID:Europe/Oslo
X-WR-TIMEZONE:Europe/Oslo


BEGIN:VEVENT
UID:6c01cba33b0a4f8baeb230171da41dd2
URL:https://umbraco.naeringsforeningen.no/moeter/arkiv/tv-sending-201126/
ORGANIZER;CN=Ola Normann:MAILTO:ola.normann@markedspartner.no
DTSTAMP:20201126T080000Z
DTSTART:20201126T080000Z
DTEND:20201126T082000Z
LAST-MODIFIED:20221031T115428Z
SUMMARY:Satser nytt i «koronadepresjonen»
DESCRIPTION:Midt i den verste «koronadepresjonen» satses det på nye utesteder i både Stavanger og Sandnes. I dag åpnet Sirkus Renaa på Lagårdsveien som skal være en ny kulinarisk møteplass med bakeri, pizzeria, iskrem og sjokolade. På Sandnes er tre nye barkonsepter lansert i løpet av den siste uken. I studio kommer Torill Renaa og Johannes Sigurd Kay fra Plagiat bar.
X-ALT-DESC:Midt i den verste &#171;koronadepresjonen&#187; satses det p&#229; nye utesteder i b&#229;de Stavanger og Sandnes. I dag &#229;pnet Sirkus Renaa p&#229; Lag&#229;rdsveien som skal v&#230;re en ny kulinarisk m&#248;teplass med bakeri, pizzeria, iskrem og sjokolade. P&#229; Sandnes er tre nye barkonsepter lansert i l&#248;pet av den siste uken. I studio kommer Torill Renaa og Johannes Sigurd Kay fra Plagiat bar.
LOCATION:Facebook Live
END:VEVENT


END:VCALENDAR



