
BEGIN:VCALENDAR
VERSION:2.0
PRODID:-//MarkedsPartner AS//Umbraco CMS//NO
TIMEZONE-ID:Europe/Oslo
X-WR-TIMEZONE:Europe/Oslo


BEGIN:VEVENT
UID:54c550b1754045bba448d5c1db349367
URL:https://umbraco.naeringsforeningen.no/moeter/arkiv/tv-sending-201123/
ORGANIZER;CN=Ola Normann:MAILTO:ola.normann@markedspartner.no
DTSTAMP:20201123T080000Z
DTSTART:20201123T080000Z
DTEND:20201123T083000Z
LAST-MODIFIED:20221031T115406Z
SUMMARY:Arena Pro-status til Nordic Edge
DESCRIPTION:Nordic Edge har fått Arena Pro-status i det nasjonale klyngeprogrammet. Hva innebærer det og hvilken betydning får det for den smarte byen? Vi har med oss daglig leder i Nordic Edge, Stig Finnesand, direktør i NHO Rogaland, Tone Grindland og prosjektleder for Nordic Edge Innoasis, Pia Fischer.
X-ALT-DESC:Nordic Edge har f&#229;tt Arena Pro-status i det nasjonale klyngeprogrammet. Hva inneb&#230;rer det og hvilken betydning f&#229;r det for den smarte byen? Vi har med oss daglig leder i Nordic Edge, Stig Finnesand, direkt&#248;r i NHO Rogaland, Tone Grindland og prosjektleder for Nordic Edge Innoasis, Pia Fischer.
LOCATION:Facebook Live
END:VEVENT


END:VCALENDAR



