
BEGIN:VCALENDAR
VERSION:2.0
PRODID:-//MarkedsPartner AS//Umbraco CMS//NO
TIMEZONE-ID:Europe/Oslo
X-WR-TIMEZONE:Europe/Oslo


BEGIN:VEVENT
UID:84d803986c2a4977bbb6dd8d265ab49d
URL:https://umbraco.naeringsforeningen.no/moeter/arkiv/tv-sending-201120/
ORGANIZER;CN=Ola Normann:MAILTO:ola.normann@markedspartner.no
DTSTAMP:20201119T080000Z
DTSTART:20201119T080000Z
DTEND:20201119T083000Z
LAST-MODIFIED:20221031T115355Z
SUMMARY:Datasenter på Kalberg, kan vi la en slik sjanse gå fra oss?
DESCRIPTION:Vi har behov for å skape tusenvis av nye arbeidsplasser i vår region de neste årene. For å klare det, må vi utnyttet våre naturgitte konkurransefortrinn. I denne sendingen skal det handle om kraftkrevende industri og spesielt muligheter for et datasenter på Kalberg. Ifølge analyser er potensialet for en slik satsing mange tusen arbeidsplasser. Med seg i studio har Harald Minge og Tormod Andreassen Lyses Eirik Gundegjerde, direktør for strategiske prosjekter i selskapet.
X-ALT-DESC:Vi har behov for &#229; skape tusenvis av nye arbeidsplasser i v&#229;r region de neste &#229;rene. For &#229; klare det, m&#229; vi utnyttet v&#229;re naturgitte konkurransefortrinn. I denne sendingen skal det handle om kraftkrevende industri og spesielt muligheter for et datasenter p&#229; Kalberg. If&#248;lge analyser er potensialet for en slik satsing mange tusen arbeidsplasser. Med seg i studio har Harald Minge og Tormod Andreassen Lyses Eirik Gundegjerde, direkt&#248;r for strategiske prosjekter i selskapet.
LOCATION:Facebook Live
END:VEVENT


END:VCALENDAR



