
BEGIN:VCALENDAR
VERSION:2.0
PRODID:-//MarkedsPartner AS//Umbraco CMS//NO
TIMEZONE-ID:Europe/Oslo
X-WR-TIMEZONE:Europe/Oslo


BEGIN:VEVENT
UID:c2df3009e9b54385a00cbc1294f4a251
URL:https://umbraco.naeringsforeningen.no/moeter/arkiv/tv-sending-200521/
ORGANIZER;CN=Ola Normann:MAILTO:ola.normann@markedspartner.no
DTSTAMP:20210520T070000Z
DTSTART:20210520T070000Z
DTEND:20210520T072000Z
LAST-MODIFIED:20221031T121728Z
SUMMARY:Dette er Energeeks
DESCRIPTION:Et nytt energi- og teknologicluster er under planlegging i Hinna Park. Navnet er Energeeks, og bak ideen står selskapet Camar – et selskap som planlegger for flere tusen nye arbeidsplasser i området. Hva målet med Energeeks er – det skal du få vite mer om i denne sendingen. Vi får besøk av Christine Sagen Helgø, partner i Camar, og markedsansvarlig Tonje Rosenvold, i Camar Eiendom.
X-ALT-DESC:Et nytt energi- og teknologicluster er under planlegging i Hinna Park. Navnet er Energeeks, og bak ideen st&#229;r selskapet Camar – et selskap som planlegger for flere tusen nye arbeidsplasser i omr&#229;det. Hva m&#229;let med Energeeks er – det skal du f&#229; vite mer om i denne sendingen. Vi f&#229;r bes&#248;k av Christine Sagen Helg&#248;, partner i Camar, og markedsansvarlig Tonje Rosenvold, i Camar Eiendom.
LOCATION:Facebook Live
END:VEVENT


END:VCALENDAR



