
BEGIN:VCALENDAR
VERSION:2.0
PRODID:-//MarkedsPartner AS//Umbraco CMS//NO
TIMEZONE-ID:Europe/Oslo
X-WR-TIMEZONE:Europe/Oslo


BEGIN:VEVENT
UID:ec4c42092a184801a56e73d3b70069b0
URL:https://umbraco.naeringsforeningen.no/moeter/arkiv/tv-sending-200421/
ORGANIZER;CN=Ola Normann:MAILTO:ola.normann@markedspartner.no
DTSTAMP:20210420T070000Z
DTSTART:20210420T070000Z
DTEND:20210420T072000Z
LAST-MODIFIED:20221031T121211Z
SUMMARY:Slik jobber ressursgruppene
DESCRIPTION:Næringsforeningen har 24 aktive ressursgrupper med over 250 medlemmer. I dagens sending tar vi for oss hvordan disse arbeider og hvordan de er organisert. Med oss i studio har vi leder for ressursgruppen for Gjesdal, Anniken Øgreid, Geir Endresen fra Bygg og anlegg og Espen Yung Svendsen fra U37.
X-ALT-DESC:N&#230;ringsforeningen har 24 aktive ressursgrupper med over 250 medlemmer. I dagens sending tar vi for oss hvordan disse arbeider og hvordan de er organisert. Med oss i studio har vi leder for ressursgruppen for Gjesdal, Anniken &#216;greid, Geir Endresen fra Bygg og anlegg og Espen Yung Svendsen fra U37.
LOCATION:Facebook Live
END:VEVENT


END:VCALENDAR



