
BEGIN:VCALENDAR
VERSION:2.0
PRODID:-//MarkedsPartner AS//Umbraco CMS//NO
TIMEZONE-ID:Europe/Oslo
X-WR-TIMEZONE:Europe/Oslo


BEGIN:VEVENT
UID:2c350c810ef5492fb73429e035fca2fe
URL:https://umbraco.naeringsforeningen.no/moeter/arkiv/tv-sending-20-mars/
ORGANIZER;CN=Ola Normann:MAILTO:ola.normann@markedspartner.no
DTSTAMP:20200320T080000Z
DTSTART:20200320T080000Z
DTEND:20200320T083000Z
LAST-MODIFIED:20221031T120206Z
SUMMARY:TV: Sending 20. mars
DESCRIPTION:Fredagens gjester er Wenche Hansen fra GuideCompaniet, Klaus Mohn fra Universitetet i Stavanger og Nils-Henrik Stokke fra Innovation Dock
X-ALT-DESC:Fredagens gjester er Wenche Hansen fra GuideCompaniet, Klaus Mohn fra Universitetet i Stavanger og Nils-Henrik Stokke fra Innovation Dock
LOCATION:
END:VEVENT


END:VCALENDAR



