
BEGIN:VCALENDAR
VERSION:2.0
PRODID:-//MarkedsPartner AS//Umbraco CMS//NO
TIMEZONE-ID:Europe/Oslo
X-WR-TIMEZONE:Europe/Oslo


BEGIN:VEVENT
UID:889cc721872940059fa6183a5f225613
URL:https://umbraco.naeringsforeningen.no/moeter/arkiv/tv-sending-20-mai/
ORGANIZER;CN=Ola Normann:MAILTO:ola.normann@markedspartner.no
DTSTAMP:20200520T070000Z
DTSTART:20200520T070000Z
DTEND:20200520T073000Z
LAST-MODIFIED:20221031T121055Z
SUMMARY:TV: Sending 20. mai
DESCRIPTION:Når innkjøpsdirektør Peggy Krantz-Underland i Equinor snakker, spisser leverandørindustrien ørene, men hvor mye skal egentlig Equinor kjøpe framover og hva skjer med investeringene?
X-ALT-DESC:N&#229;r innkj&#248;psdirekt&#248;r Peggy Krantz-Underland i Equinor snakker, spisser leverand&#248;rindustrien &#248;rene, men hvor mye skal egentlig Equinor kj&#248;pe framover og hva skjer med investeringene?
LOCATION:Facebook Live
END:VEVENT


END:VCALENDAR



