
BEGIN:VCALENDAR
VERSION:2.0
PRODID:-//MarkedsPartner AS//Umbraco CMS//NO
TIMEZONE-ID:Europe/Oslo
X-WR-TIMEZONE:Europe/Oslo


BEGIN:VEVENT
UID:94d3cd30fa00487695f6249034c09d79
URL:https://umbraco.naeringsforeningen.no/moeter/arkiv/tv-sending-20-april/
ORGANIZER;CN=Ola Normann:MAILTO:ola.normann@markedspartner.no
DTSTAMP:20200420T070000Z
DTSTART:20200420T070000Z
DTEND:20200420T073000Z
LAST-MODIFIED:20221031T120620Z
SUMMARY:TV: Sending 20. april
DESCRIPTION:Mandag får vi besøk av Monica Bjørkmann, Trine Stangeland og Anne Woie i tv-studio.
X-ALT-DESC:Mandag f&#229;r vi bes&#248;k av Monica Bj&#248;rkmann, Trine Stangeland og Anne Woie i tv-studio.
LOCATION:Facebook Live
END:VEVENT


END:VCALENDAR



