
BEGIN:VCALENDAR
VERSION:2.0
PRODID:-//MarkedsPartner AS//Umbraco CMS//NO
TIMEZONE-ID:Europe/Oslo
X-WR-TIMEZONE:Europe/Oslo


BEGIN:VEVENT
UID:1b358900c00a4942b932c4ff8a19b1a4
URL:https://umbraco.naeringsforeningen.no/moeter/arkiv/tv-sending-2-juni/
ORGANIZER;CN=Ola Normann:MAILTO:ola.normann@markedspartner.no
DTSTAMP:20200602T070000Z
DTSTART:20200602T070000Z
DTEND:20200602T073000Z
LAST-MODIFIED:20221031T121225Z
SUMMARY:TV: Sending 2. juni
DESCRIPTION:Hva skjer med lærlingene til høsten i kjølvannet av koronakrisen og et sterkt fall i oljeprisen? Vi får besøk av Catrine Utne Pettersen, sjef for fagopplæring i fylkeskommunen og fylkesordfører Marianne Chesak.
X-ALT-DESC:Hva skjer med l&#230;rlingene til h&#248;sten i kj&#248;lvannet av koronakrisen og et sterkt fall i oljeprisen? Vi f&#229;r bes&#248;k av Catrine Utne Pettersen, sjef for fagoppl&#230;ring i fylkeskommunen og fylkesordf&#248;rer Marianne Chesak.
LOCATION:Facebook Live
END:VEVENT


END:VCALENDAR



