
BEGIN:VCALENDAR
VERSION:2.0
PRODID:-//MarkedsPartner AS//Umbraco CMS//NO
TIMEZONE-ID:Europe/Oslo
X-WR-TIMEZONE:Europe/Oslo


BEGIN:VEVENT
UID:10b12768e942485da2c908468e1172b0
URL:https://umbraco.naeringsforeningen.no/moeter/arkiv/tv-sending-2-april/
ORGANIZER;CN=Ola Normann:MAILTO:ola.normann@markedspartner.no
DTSTAMP:20200402T070000Z
DTSTART:20200402T070000Z
DTEND:20200402T073000Z
LAST-MODIFIED:20221031T120439Z
SUMMARY:TV: Sending 2. april
DESCRIPTION:I torsdagens sending skal vi ta dere med ut til matprodusentene. Til drivhus, klekkerier og til de som venter på de første lammene. Til Jæren og til Ryfylke.
X-ALT-DESC:I torsdagens sending skal vi ta dere med ut til matprodusentene. Til drivhus, klekkerier og til de som venter p&#229; de f&#248;rste lammene. Til J&#230;ren og til Ryfylke.
LOCATION:Facebook Live
END:VEVENT


END:VCALENDAR



