
BEGIN:VCALENDAR
VERSION:2.0
PRODID:-//MarkedsPartner AS//Umbraco CMS//NO
TIMEZONE-ID:Europe/Oslo
X-WR-TIMEZONE:Europe/Oslo


BEGIN:VEVENT
UID:1861fd1209b34e2b9cf2c616d6c804d1
URL:https://umbraco.naeringsforeningen.no/moeter/arkiv/tv-sending-191121/
ORGANIZER;CN=Ola Normann:MAILTO:ola.normann@markedspartner.no
DTSTAMP:20211119T080000Z
DTSTART:20211119T080000Z
DTEND:20211119T083000Z
LAST-MODIFIED:20221031T123052Z
SUMMARY:Næringsforeningen TV: Helgemagasin
DESCRIPTION:Vi presenterer de to siste nominerte før kåringen av Årets bedrift. Vi har besøkt Pizzabakeren, og får besøk av Jonas Helmikstøl fra Easee i studio. Administrerende direktør i Sandnes Sparebank, Trine Stangeland, snakker om ledelse, og Harald Minge og Tormod Andreassen tar nok en gang for seg uka som gikk.
X-ALT-DESC:Vi presenterer de to siste nominerte f&#248;r k&#229;ringen av &#197;rets bedrift. Vi har bes&#248;kt Pizzabakeren, og f&#229;r bes&#248;k av Jonas Helmikst&#248;l fra Easee i studio. Administrerende direkt&#248;r i Sandnes Sparebank, Trine Stangeland, snakker om ledelse, og Harald Minge og Tormod Andreassen tar nok en gang for seg uka som gikk.
LOCATION:Facebook Live
END:VEVENT


END:VCALENDAR



